BEGIN:VCALENDAR
VERSION:2.0
PRODID:-//BFPO Veterans - ECPv6.15.20//NONSGML v1.0//EN
CALSCALE:GREGORIAN
METHOD:PUBLISH
X-WR-CALNAME:BFPO Veterans
X-ORIGINAL-URL:https://pcsbranch.org.uk
X-WR-CALDESC:Events for BFPO Veterans
REFRESH-INTERVAL;VALUE=DURATION:PT1H
X-Robots-Tag:noindex
X-PUBLISHED-TTL:PT1H
BEGIN:VTIMEZONE
TZID:Europe/London
BEGIN:DAYLIGHT
TZOFFSETFROM:+0000
TZOFFSETTO:+0100
TZNAME:BST
DTSTART:20170326T010000
END:DAYLIGHT
BEGIN:STANDARD
TZOFFSETFROM:+0100
TZOFFSETTO:+0000
TZNAME:GMT
DTSTART:20171029T010000
END:STANDARD
BEGIN:DAYLIGHT
TZOFFSETFROM:+0000
TZOFFSETTO:+0100
TZNAME:BST
DTSTART:20180325T010000
END:DAYLIGHT
BEGIN:STANDARD
TZOFFSETFROM:+0100
TZOFFSETTO:+0000
TZNAME:GMT
DTSTART:20181028T010000
END:STANDARD
BEGIN:DAYLIGHT
TZOFFSETFROM:+0000
TZOFFSETTO:+0100
TZNAME:BST
DTSTART:20190331T010000
END:DAYLIGHT
BEGIN:STANDARD
TZOFFSETFROM:+0100
TZOFFSETTO:+0000
TZNAME:GMT
DTSTART:20191027T010000
END:STANDARD
END:VTIMEZONE
BEGIN:VEVENT
DTSTART;VALUE=DATE:20181216
DTEND;VALUE=DATE:20181217
DTSTAMP:20260426T001434
CREATED:20181115T151104Z
LAST-MODIFIED:20181115T151104Z
UID:4797-1544918400-1545004799@pcsbranch.org.uk
SUMMARY:Christmas Classic Vehicle & Steam Meet
DESCRIPTION:Top of Town Car Park\, Dorchester\, Dorset\, .
URL:https://pcsbranch.org.uk/event/christmas-classic-vehicle-steam-meet/
CATEGORIES:Forthcoming Events
END:VEVENT
END:VCALENDAR