BEGIN:VCALENDAR
VERSION:2.0
PRODID:-//BFPO Veterans - ECPv6.15.20//NONSGML v1.0//EN
CALSCALE:GREGORIAN
METHOD:PUBLISH
X-WR-CALNAME:BFPO Veterans
X-ORIGINAL-URL:https://pcsbranch.org.uk
X-WR-CALDESC:Events for BFPO Veterans
REFRESH-INTERVAL;VALUE=DURATION:PT1H
X-Robots-Tag:noindex
X-PUBLISHED-TTL:PT1H
BEGIN:VTIMEZONE
TZID:Europe/London
BEGIN:DAYLIGHT
TZOFFSETFROM:+0000
TZOFFSETTO:+0100
TZNAME:BST
DTSTART:20220327T010000
END:DAYLIGHT
BEGIN:STANDARD
TZOFFSETFROM:+0100
TZOFFSETTO:+0000
TZNAME:GMT
DTSTART:20221030T010000
END:STANDARD
BEGIN:DAYLIGHT
TZOFFSETFROM:+0000
TZOFFSETTO:+0100
TZNAME:BST
DTSTART:20230326T010000
END:DAYLIGHT
BEGIN:STANDARD
TZOFFSETFROM:+0100
TZOFFSETTO:+0000
TZNAME:GMT
DTSTART:20231029T010000
END:STANDARD
BEGIN:DAYLIGHT
TZOFFSETFROM:+0000
TZOFFSETTO:+0100
TZNAME:BST
DTSTART:20240331T010000
END:DAYLIGHT
BEGIN:STANDARD
TZOFFSETFROM:+0100
TZOFFSETTO:+0000
TZNAME:GMT
DTSTART:20241027T010000
END:STANDARD
END:VTIMEZONE
BEGIN:VEVENT
DTSTART;TZID=Europe/London:20230903T110000
DTEND;TZID=Europe/London:20230903T193000
DTSTAMP:20260425T185718
CREATED:20230106T085054Z
LAST-MODIFIED:20230510T075541Z
UID:8076-1693738800-1693769400@pcsbranch.org.uk
SUMMARY:MARCH ARMED FORCES FAIR (MAFF) 3 SEPT 23
DESCRIPTION:Following the success of the 2022 event\, the March Armed Forces Fair returns to\nWest End Park\, March\, Cambridgeshire on 3rd September 2023\n \n\nFor more details\, go to the website www.maff2023.com/
URL:https://pcsbranch.org.uk/event/march-armed-forces-fair-maff-3-sept-23-invite-reas/
CATEGORIES:Forthcoming Events
END:VEVENT
END:VCALENDAR