BEGIN:VCALENDAR
VERSION:2.0
PRODID:-//BFPO Veterans - ECPv6.15.20//NONSGML v1.0//EN
CALSCALE:GREGORIAN
METHOD:PUBLISH
X-WR-CALNAME:BFPO Veterans
X-ORIGINAL-URL:https://pcsbranch.org.uk
X-WR-CALDESC:Events for BFPO Veterans
REFRESH-INTERVAL;VALUE=DURATION:PT1H
X-Robots-Tag:noindex
X-PUBLISHED-TTL:PT1H
BEGIN:VTIMEZONE
TZID:Europe/London
BEGIN:DAYLIGHT
TZOFFSETFROM:+0000
TZOFFSETTO:+0100
TZNAME:BST
DTSTART:20230326T010000
END:DAYLIGHT
BEGIN:STANDARD
TZOFFSETFROM:+0100
TZOFFSETTO:+0000
TZNAME:GMT
DTSTART:20231029T010000
END:STANDARD
BEGIN:DAYLIGHT
TZOFFSETFROM:+0000
TZOFFSETTO:+0100
TZNAME:BST
DTSTART:20240331T010000
END:DAYLIGHT
BEGIN:STANDARD
TZOFFSETFROM:+0100
TZOFFSETTO:+0000
TZNAME:GMT
DTSTART:20241027T010000
END:STANDARD
BEGIN:DAYLIGHT
TZOFFSETFROM:+0000
TZOFFSETTO:+0100
TZNAME:BST
DTSTART:20250330T010000
END:DAYLIGHT
BEGIN:STANDARD
TZOFFSETFROM:+0100
TZOFFSETTO:+0000
TZNAME:GMT
DTSTART:20251026T010000
END:STANDARD
END:VTIMEZONE
BEGIN:VEVENT
DTSTART;TZID=Europe/London:20241130T190000
DTEND;TZID=Europe/London:20241130T233000
DTSTAMP:20260423T111633
CREATED:20241014T114541Z
LAST-MODIFIED:20241014T114541Z
UID:8966-1732993200-1733009400@pcsbranch.org.uk
SUMMARY:REA Winter Ball 2024
DESCRIPTION:The  REA Winter Ball 2024 (REA WB 24) will take place on Saturday\, 30 Nov 24\, at Chetwynd Barracks\, Chilwell. Following the success of the REA Burns Night earlier this year and other previous events. This Winter Ball offers a traditional festival menu set in a formal dining experience with live entertainment. With up to 150 – 160 serving and veteran members of the Corps attending. \nApplications are to be submitted to secretary@pcsbranch.org.uk no later than 30th October 2024.
URL:https://pcsbranch.org.uk/event/rea-winter-ball-2024/
CATEGORIES:Forthcoming Events
END:VEVENT
END:VCALENDAR