BEGIN:VCALENDAR
VERSION:2.0
PRODID:-//BFPO Veterans - ECPv6.15.20//NONSGML v1.0//EN
CALSCALE:GREGORIAN
METHOD:PUBLISH
X-WR-CALNAME:BFPO Veterans
X-ORIGINAL-URL:https://pcsbranch.org.uk
X-WR-CALDESC:Events for BFPO Veterans
REFRESH-INTERVAL;VALUE=DURATION:PT1H
X-Robots-Tag:noindex
X-PUBLISHED-TTL:PT1H
BEGIN:VTIMEZONE
TZID:Europe/London
BEGIN:DAYLIGHT
TZOFFSETFROM:+0000
TZOFFSETTO:+0100
TZNAME:BST
DTSTART:20230326T010000
END:DAYLIGHT
BEGIN:STANDARD
TZOFFSETFROM:+0100
TZOFFSETTO:+0000
TZNAME:GMT
DTSTART:20231029T010000
END:STANDARD
BEGIN:DAYLIGHT
TZOFFSETFROM:+0000
TZOFFSETTO:+0100
TZNAME:BST
DTSTART:20240331T010000
END:DAYLIGHT
BEGIN:STANDARD
TZOFFSETFROM:+0100
TZOFFSETTO:+0000
TZNAME:GMT
DTSTART:20241027T010000
END:STANDARD
BEGIN:DAYLIGHT
TZOFFSETFROM:+0000
TZOFFSETTO:+0100
TZNAME:BST
DTSTART:20250330T010000
END:DAYLIGHT
BEGIN:STANDARD
TZOFFSETFROM:+0100
TZOFFSETTO:+0000
TZNAME:GMT
DTSTART:20251026T010000
END:STANDARD
END:VTIMEZONE
BEGIN:VEVENT
DTSTART;TZID=Europe/London:20240608T080000
DTEND;TZID=Europe/London:20240609T170000
DTSTAMP:20260425T142554
CREATED:20230802T072600Z
LAST-MODIFIED:20230802T073322Z
UID:8505-1717833600-1717952400@pcsbranch.org.uk
SUMMARY:Ripon Weekend - Standard Bearer National Event
DESCRIPTION:Ripon Weekend and Parade of Standards to mark 75 years of the Corps of Royal Engineers being granted the Freedom of the City. \n\n\nGet in touch\n\nRavelin Building\, Brompton Barracks\, Chatham\, Kent\, ME4 4UG \nEmail : info@reahq.org.uk\nTel : +44 (0)1634 847 005
URL:https://pcsbranch.org.uk/event/ripon-weekend-standard-bearer-national-event/
CATEGORIES:Forthcoming Events
END:VEVENT
END:VCALENDAR