BEGIN:VCALENDAR
VERSION:2.0
PRODID:-//BFPO Veterans - ECPv6.15.20//NONSGML v1.0//EN
CALSCALE:GREGORIAN
METHOD:PUBLISH
X-WR-CALNAME:BFPO Veterans
X-ORIGINAL-URL:https://pcsbranch.org.uk
X-WR-CALDESC:Events for BFPO Veterans
REFRESH-INTERVAL;VALUE=DURATION:PT1H
X-Robots-Tag:noindex
X-PUBLISHED-TTL:PT1H
BEGIN:VTIMEZONE
TZID:Europe/London
BEGIN:DAYLIGHT
TZOFFSETFROM:+0000
TZOFFSETTO:+0100
TZNAME:BST
DTSTART:20190331T010000
END:DAYLIGHT
BEGIN:STANDARD
TZOFFSETFROM:+0100
TZOFFSETTO:+0000
TZNAME:GMT
DTSTART:20191027T010000
END:STANDARD
BEGIN:DAYLIGHT
TZOFFSETFROM:+0000
TZOFFSETTO:+0100
TZNAME:BST
DTSTART:20200329T010000
END:DAYLIGHT
BEGIN:STANDARD
TZOFFSETFROM:+0100
TZOFFSETTO:+0000
TZNAME:GMT
DTSTART:20201025T010000
END:STANDARD
BEGIN:DAYLIGHT
TZOFFSETFROM:+0000
TZOFFSETTO:+0100
TZNAME:BST
DTSTART:20210328T010000
END:DAYLIGHT
BEGIN:STANDARD
TZOFFSETFROM:+0100
TZOFFSETTO:+0000
TZNAME:GMT
DTSTART:20211031T010000
END:STANDARD
END:VTIMEZONE
BEGIN:VEVENT
DTSTART;VALUE=DATE:20200508
DTEND;VALUE=DATE:20200509
DTSTAMP:20260425T215813
CREATED:20200217T120109Z
LAST-MODIFIED:20200217T120224Z
UID:5318-1588896000-1588982399@pcsbranch.org.uk
SUMMARY:SSAFA VE Day 75
DESCRIPTION:SSAFA\, the Armed Forces charity is proud to present VE Day 75 with the Daily Mail at the Royal Albert Hall on Bank Holiday Friday 8 May 2020. The Royal Philharmonic Orchestra\, veterans and special guests will unite the nation as the country reflects on this momentous anniversary.
URL:https://pcsbranch.org.uk/event/ssafa-ve-day-75/
CATEGORIES:Forthcoming Events
END:VEVENT
END:VCALENDAR