BEGIN:VCALENDAR
VERSION:2.0
PRODID:-//BFPO Veterans - ECPv6.15.20//NONSGML v1.0//EN
CALSCALE:GREGORIAN
METHOD:PUBLISH
X-WR-CALNAME:BFPO Veterans
X-ORIGINAL-URL:https://pcsbranch.org.uk
X-WR-CALDESC:Events for BFPO Veterans
REFRESH-INTERVAL;VALUE=DURATION:PT1H
X-Robots-Tag:noindex
X-PUBLISHED-TTL:PT1H
BEGIN:VTIMEZONE
TZID:Europe/London
BEGIN:DAYLIGHT
TZOFFSETFROM:+0000
TZOFFSETTO:+0100
TZNAME:BST
DTSTART:20210328T010000
END:DAYLIGHT
BEGIN:STANDARD
TZOFFSETFROM:+0100
TZOFFSETTO:+0000
TZNAME:GMT
DTSTART:20211031T010000
END:STANDARD
BEGIN:DAYLIGHT
TZOFFSETFROM:+0000
TZOFFSETTO:+0100
TZNAME:BST
DTSTART:20220327T010000
END:DAYLIGHT
BEGIN:STANDARD
TZOFFSETFROM:+0100
TZOFFSETTO:+0000
TZNAME:GMT
DTSTART:20221030T010000
END:STANDARD
BEGIN:DAYLIGHT
TZOFFSETFROM:+0000
TZOFFSETTO:+0100
TZNAME:BST
DTSTART:20230326T010000
END:DAYLIGHT
BEGIN:STANDARD
TZOFFSETFROM:+0100
TZOFFSETTO:+0000
TZNAME:GMT
DTSTART:20231029T010000
END:STANDARD
END:VTIMEZONE
BEGIN:VEVENT
DTSTART;TZID=Europe/London:20220601T140000
DTEND;TZID=Europe/London:20220601T170000
DTSTAMP:20260425T234457
CREATED:20220514T075911Z
LAST-MODIFIED:20220514T080432Z
UID:7797-1654092000-1654102800@pcsbranch.org.uk
SUMMARY:Tommy Kavanagh Funeral
DESCRIPTION:Tommy Kavanagh’s funeral will be held at Dunfermline Crematorium at 14.00  address: Masterton Road\, Dunfermline KY11 8QR. \nAfterwards the family will be heading back to the British Legion Dunfermline to celebrate his life. Leanne and Karen would love to see as many old friends as possible\, but appreciate it’s a long way to travel so will provide be a link to a live stream or you can watch at a later time.
URL:https://pcsbranch.org.uk/event/tommy-kavanagh-funeral/
CATEGORIES:Forthcoming Events
END:VEVENT
END:VCALENDAR