BEGIN:VCALENDAR
VERSION:2.0
PRODID:-//BFPO Veterans - ECPv6.15.20//NONSGML v1.0//EN
CALSCALE:GREGORIAN
METHOD:PUBLISH
X-WR-CALNAME:BFPO Veterans
X-ORIGINAL-URL:https://pcsbranch.org.uk
X-WR-CALDESC:Events for BFPO Veterans
REFRESH-INTERVAL;VALUE=DURATION:PT1H
X-Robots-Tag:noindex
X-PUBLISHED-TTL:PT1H
BEGIN:VTIMEZONE
TZID:Europe/London
BEGIN:DAYLIGHT
TZOFFSETFROM:+0000
TZOFFSETTO:+0100
TZNAME:BST
DTSTART:20160327T010000
END:DAYLIGHT
BEGIN:STANDARD
TZOFFSETFROM:+0100
TZOFFSETTO:+0000
TZNAME:GMT
DTSTART:20161030T010000
END:STANDARD
BEGIN:DAYLIGHT
TZOFFSETFROM:+0000
TZOFFSETTO:+0100
TZNAME:BST
DTSTART:20170326T010000
END:DAYLIGHT
BEGIN:STANDARD
TZOFFSETFROM:+0100
TZOFFSETTO:+0000
TZNAME:GMT
DTSTART:20171029T010000
END:STANDARD
BEGIN:DAYLIGHT
TZOFFSETFROM:+0000
TZOFFSETTO:+0100
TZNAME:BST
DTSTART:20180325T010000
END:DAYLIGHT
BEGIN:STANDARD
TZOFFSETFROM:+0100
TZOFFSETTO:+0000
TZNAME:GMT
DTSTART:20181028T010000
END:STANDARD
END:VTIMEZONE
BEGIN:VEVENT
DTSTART;VALUE=DATE:20171019
DTEND;VALUE=DATE:20171024
DTSTAMP:20260425T222442
CREATED:20170203T190815Z
LAST-MODIFIED:20170203T190815Z
UID:1349-1508371200-1508803199@pcsbranch.org.uk
SUMMARY:WRAC Reunion
DESCRIPTION:2017 WRAC Reunion will take place on 19-23 October in Morecambe
URL:https://pcsbranch.org.uk/event/wrac-reunion/
CATEGORIES:Forthcoming Events,Reunion
END:VEVENT
END:VCALENDAR