BEGIN:VCALENDAR
VERSION:2.0
PRODID:-//BFPO Veterans - ECPv6.15.20//NONSGML v1.0//EN
CALSCALE:GREGORIAN
METHOD:PUBLISH
X-ORIGINAL-URL:https://pcsbranch.org.uk
X-WR-CALDESC:Events for BFPO Veterans
REFRESH-INTERVAL;VALUE=DURATION:PT1H
X-Robots-Tag:noindex
X-PUBLISHED-TTL:PT1H
BEGIN:VTIMEZONE
TZID:Europe/London
BEGIN:DAYLIGHT
TZOFFSETFROM:+0000
TZOFFSETTO:+0100
TZNAME:BST
DTSTART:20160327T010000
END:DAYLIGHT
BEGIN:STANDARD
TZOFFSETFROM:+0100
TZOFFSETTO:+0000
TZNAME:GMT
DTSTART:20161030T010000
END:STANDARD
BEGIN:DAYLIGHT
TZOFFSETFROM:+0000
TZOFFSETTO:+0100
TZNAME:BST
DTSTART:20170326T010000
END:DAYLIGHT
BEGIN:STANDARD
TZOFFSETFROM:+0100
TZOFFSETTO:+0000
TZNAME:GMT
DTSTART:20171029T010000
END:STANDARD
BEGIN:DAYLIGHT
TZOFFSETFROM:+0000
TZOFFSETTO:+0100
TZNAME:BST
DTSTART:20180325T010000
END:DAYLIGHT
BEGIN:STANDARD
TZOFFSETFROM:+0100
TZOFFSETTO:+0000
TZNAME:GMT
DTSTART:20181028T010000
END:STANDARD
BEGIN:DAYLIGHT
TZOFFSETFROM:+0000
TZOFFSETTO:+0100
TZNAME:BST
DTSTART:20190331T010000
END:DAYLIGHT
BEGIN:STANDARD
TZOFFSETFROM:+0100
TZOFFSETTO:+0000
TZNAME:GMT
DTSTART:20191027T010000
END:STANDARD
BEGIN:DAYLIGHT
TZOFFSETFROM:+0000
TZOFFSETTO:+0100
TZNAME:BST
DTSTART:20200329T010000
END:DAYLIGHT
BEGIN:STANDARD
TZOFFSETFROM:+0100
TZOFFSETTO:+0000
TZNAME:GMT
DTSTART:20201025T010000
END:STANDARD
BEGIN:DAYLIGHT
TZOFFSETFROM:+0000
TZOFFSETTO:+0100
TZNAME:BST
DTSTART:20210328T010000
END:DAYLIGHT
BEGIN:STANDARD
TZOFFSETFROM:+0100
TZOFFSETTO:+0000
TZNAME:GMT
DTSTART:20211031T010000
END:STANDARD
BEGIN:DAYLIGHT
TZOFFSETFROM:+0000
TZOFFSETTO:+0100
TZNAME:BST
DTSTART:20220327T010000
END:DAYLIGHT
BEGIN:STANDARD
TZOFFSETFROM:+0100
TZOFFSETTO:+0000
TZNAME:GMT
DTSTART:20221030T010000
END:STANDARD
BEGIN:DAYLIGHT
TZOFFSETFROM:+0000
TZOFFSETTO:+0100
TZNAME:BST
DTSTART:20230326T010000
END:DAYLIGHT
BEGIN:STANDARD
TZOFFSETFROM:+0100
TZOFFSETTO:+0000
TZNAME:GMT
DTSTART:20231029T010000
END:STANDARD
BEGIN:DAYLIGHT
TZOFFSETFROM:+0000
TZOFFSETTO:+0100
TZNAME:BST
DTSTART:20240331T010000
END:DAYLIGHT
BEGIN:STANDARD
TZOFFSETFROM:+0100
TZOFFSETTO:+0000
TZNAME:GMT
DTSTART:20241027T010000
END:STANDARD
END:VTIMEZONE
BEGIN:VEVENT
DTSTART;TZID=Europe/London:20230627T110000
DTEND;TZID=Europe/London:20230627T170000
DTSTAMP:20260425T190539
CREATED:20230510T074535Z
LAST-MODIFIED:20230510T074535Z
UID:8411-1687863600-1687885200@pcsbranch.org.uk
SUMMARY:KOREA 70
DESCRIPTION:2023 marks 70 years since the signing of the armistice that bought about an end to military operations during the Korean War. 60\,000 service personnel from across Britain and the Commonwealth saw action during the Korean War\, with 1\,100 losing their lives.  \nThe Royal British Legion will be marking this important milestone in an often-forgotten conflict with a special service of remembrance at Horse Guards Parade on Thursday 27 July from 11am. The event will focus on telling the story of the Korean War through the testimony and memories of the conflict from those who were there\, as well as looking to inform and engage the wider audience and attendees about a war which never truly ended.    \nAttendees/Eligibility   \nKorea 70 is a ticketed event open to British and Commonwealth veterans who served in the Korean War\, bereaved family members and their descendants (spouse\, partner\, or family members). The surrounding event expo area will be open to the wider public.  \nWe want to share the story of the 70th anniversary of the Korean War with as wide an audience as possible. Where previously invited guests/veterans would bring a single guest\, we encourage you to bring your friends and family members with you to this event. You will be able to request up to three guests when event registration opens in April.  \nRegistration  \nAll eligible attendees will need to register their interest to attend the event by following the link below and completing and submitting the Register your Interest form. The Royal British Legion will then be in touch again via email when registration opens in April to ask you to complete your full event accreditation. It is at this point you will be able to invite your additional guests.   \nRegister your Interest
URL:https://pcsbranch.org.uk/event/korea-70/
CATEGORIES:Forthcoming Events
END:VEVENT
BEGIN:VEVENT
DTSTART;VALUE=DATE:20230625
DTEND;VALUE=DATE:20230626
DTSTAMP:20260425T190539
CREATED:20230510T072508Z
LAST-MODIFIED:20230510T072508Z
UID:8403-1687651200-1687737599@pcsbranch.org.uk
SUMMARY:Armed Forces Day Stoke on Trent – Parade in the Park June 2023
DESCRIPTION:
URL:https://pcsbranch.org.uk/event/armed-forces-day-stoke-on-trent-parade-in-the-park-june-2023/
CATEGORIES:Forthcoming Events
END:VEVENT
BEGIN:VEVENT
DTSTART;VALUE=DATE:20230624
DTEND;VALUE=DATE:20230625
DTSTAMP:20260425T190539
CREATED:20230510T072843Z
LAST-MODIFIED:20230510T072843Z
UID:8405-1687564800-1687651199@pcsbranch.org.uk
SUMMARY:Armed Forces Day 2023 – Newcastle
DESCRIPTION:Military vs Cancer presents UK Armed Forces RFC vs North of England Select \nKingston Park Stadium 1500 KO \nSaturday 24th June 2023
URL:https://pcsbranch.org.uk/event/armed-forces-day-2023-newcastle/
CATEGORIES:Forthcoming Events
END:VEVENT
BEGIN:VEVENT
DTSTART;VALUE=DATE:20230608
DTEND;VALUE=DATE:20230609
DTSTAMP:20260425T190539
CREATED:20230225T101606Z
LAST-MODIFIED:20230225T101606Z
UID:8143-1686182400-1686268799@pcsbranch.org.uk
SUMMARY:Royal Hospital Chelsea Founder’s Day
DESCRIPTION:
URL:https://pcsbranch.org.uk/event/royal-hospital-chelsea-founders-day/
CATEGORIES:Forthcoming Events
END:VEVENT
BEGIN:VEVENT
DTSTART;TZID=Europe/London:20230603T183000
DTEND;TZID=Europe/London:20230603T210000
DTSTAMP:20260425T190539
CREATED:20230510T073209Z
LAST-MODIFIED:20230510T073209Z
UID:8407-1685817000-1685826000@pcsbranch.org.uk
SUMMARY:The Band of the Mercian Regiment
DESCRIPTION:
URL:https://pcsbranch.org.uk/event/the-band-of-the-mercian-regiment/
CATEGORIES:Forthcoming Events
END:VEVENT
BEGIN:VEVENT
DTSTART;TZID=Europe/London:20230507T110000
DTEND;TZID=Europe/London:20230507T160000
DTSTAMP:20260425T190539
CREATED:20230510T073511Z
LAST-MODIFIED:20230510T073511Z
UID:8409-1683457200-1683475200@pcsbranch.org.uk
SUMMARY:Nottinghamshire Band of the Royal Engineers Concert
DESCRIPTION:
URL:https://pcsbranch.org.uk/event/nottinghamshire-band-of-the-royal-engineers-concert/
CATEGORIES:Forthcoming Events
END:VEVENT
BEGIN:VEVENT
DTSTART;VALUE=DATE:20230319
DTEND;VALUE=DATE:20230320
DTSTAMP:20260425T190539
CREATED:20230225T103717Z
LAST-MODIFIED:20230225T103717Z
UID:8161-1679184000-1679270399@pcsbranch.org.uk
SUMMARY:REA South West Group Re-dedication of Standards - Truro Cathedral
DESCRIPTION:
URL:https://pcsbranch.org.uk/event/rea-south-west-group-re-dedication-of-standards-truro-cathedral/
CATEGORIES:Forthcoming Events
END:VEVENT
BEGIN:VEVENT
DTSTART;TZID=Europe/London:20220601T140000
DTEND;TZID=Europe/London:20220601T170000
DTSTAMP:20260425T190539
CREATED:20220514T075911Z
LAST-MODIFIED:20220514T080432Z
UID:7797-1654092000-1654102800@pcsbranch.org.uk
SUMMARY:Tommy Kavanagh Funeral
DESCRIPTION:Tommy Kavanagh’s funeral will be held at Dunfermline Crematorium at 14.00  address: Masterton Road\, Dunfermline KY11 8QR. \nAfterwards the family will be heading back to the British Legion Dunfermline to celebrate his life. Leanne and Karen would love to see as many old friends as possible\, but appreciate it’s a long way to travel so will provide be a link to a live stream or you can watch at a later time.
URL:https://pcsbranch.org.uk/event/tommy-kavanagh-funeral/
CATEGORIES:Forthcoming Events
END:VEVENT
BEGIN:VEVENT
DTSTART;VALUE=DATE:20211127
DTEND;VALUE=DATE:20211128
DTSTAMP:20260425T190539
CREATED:20211031T121147Z
LAST-MODIFIED:20211031T121147Z
UID:7608-1637971200-1638057599@pcsbranch.org.uk
SUMMARY:REA Winter Dinner Night 2021
DESCRIPTION:
URL:https://pcsbranch.org.uk/event/rea-winter-dinner-night-2021/
CATEGORIES:Forthcoming Events
END:VEVENT
BEGIN:VEVENT
DTSTART;VALUE=DATE:20211114
DTEND;VALUE=DATE:20211115
DTSTAMP:20260425T190539
CREATED:20211031T120753Z
LAST-MODIFIED:20211031T120753Z
UID:7605-1636848000-1636934399@pcsbranch.org.uk
SUMMARY:Remembrance Sunday
DESCRIPTION:
URL:https://pcsbranch.org.uk/event/remembrance-sunday/
CATEGORIES:Forthcoming Events
END:VEVENT
BEGIN:VEVENT
DTSTART;VALUE=DATE:20211111
DTEND;VALUE=DATE:20211112
DTSTAMP:20260425T190539
CREATED:20211031T120620Z
LAST-MODIFIED:20211031T121008Z
UID:7603-1636588800-1636675199@pcsbranch.org.uk
SUMMARY:Field of Remembrance\, Westminster Abbey
DESCRIPTION:
URL:https://pcsbranch.org.uk/event/thursday-11th-november-2021-field-of-remembrance-westminster-abbey/
CATEGORIES:Forthcoming Events
END:VEVENT
BEGIN:VEVENT
DTSTART;VALUE=DATE:20200515
DTEND;VALUE=DATE:20200519
DTSTAMP:20260425T190539
CREATED:20200210T142643Z
LAST-MODIFIED:20200210T142643Z
UID:5311-1589500800-1589846399@pcsbranch.org.uk
SUMMARY:Gibraltar Weekend 2020
DESCRIPTION:PRELIMINARY CALLING NOTICE ROYAL ENGINEERS ASSOCIATION GIBRALTAR WEEKEND 2020 FRIDAY 15 – MONDAY 18 MAY 2020  \nYou are cordially invited to celebrate the strong and resilient ties that we maintain with our birthplace\, Gibraltar and its wonderful people in 2020. The Royal Engineers Association Gibraltar Weekend 2020 (REAW20) will be held in Gibraltar between Fri 15 and Mon 18 May 20. The event will be organised by the members of the Gibraltar REA Branch. After a record attendance at this year’s event (200 guests)\, it is hoped to surpass this achievement by welcoming even more of our Sapper family to Gibraltar in 2020.
URL:https://pcsbranch.org.uk/event/gibraltar-weekend-2020/
CATEGORIES:Forthcoming Events
END:VEVENT
BEGIN:VEVENT
DTSTART;VALUE=DATE:20200508
DTEND;VALUE=DATE:20200509
DTSTAMP:20260425T190539
CREATED:20200217T120109Z
LAST-MODIFIED:20200217T120224Z
UID:5318-1588896000-1588982399@pcsbranch.org.uk
SUMMARY:SSAFA VE Day 75
DESCRIPTION:SSAFA\, the Armed Forces charity is proud to present VE Day 75 with the Daily Mail at the Royal Albert Hall on Bank Holiday Friday 8 May 2020. The Royal Philharmonic Orchestra\, veterans and special guests will unite the nation as the country reflects on this momentous anniversary.
URL:https://pcsbranch.org.uk/event/ssafa-ve-day-75/
CATEGORIES:Forthcoming Events
END:VEVENT
BEGIN:VEVENT
DTSTART;VALUE=DATE:20200502
DTEND;VALUE=DATE:20200503
DTSTAMP:20260425T190539
CREATED:20200210T143302Z
LAST-MODIFIED:20200210T143302Z
UID:5313-1588377600-1588463999@pcsbranch.org.uk
SUMMARY:Army vs Navy Rugby
DESCRIPTION:
URL:https://pcsbranch.org.uk/event/army-vs-navy-rugby/
CATEGORIES:Forthcoming Events
END:VEVENT
BEGIN:VEVENT
DTSTART;VALUE=DATE:20191110
DTEND;VALUE=DATE:20191111
DTSTAMP:20260425T190539
CREATED:20190831T131150Z
LAST-MODIFIED:20190831T131150Z
UID:5147-1573344000-1573430399@pcsbranch.org.uk
SUMMARY:Remembrance Sunday 2019
DESCRIPTION:
URL:https://pcsbranch.org.uk/event/remembrance-sunday-2019/
CATEGORIES:Forthcoming Events
END:VEVENT
BEGIN:VEVENT
DTSTART;VALUE=DATE:20191107
DTEND;VALUE=DATE:20191108
DTSTAMP:20260425T190539
CREATED:20190831T131022Z
LAST-MODIFIED:20190831T131022Z
UID:5145-1573084800-1573171199@pcsbranch.org.uk
SUMMARY:Field of Remembrance\, Westminster Abbey 2019
DESCRIPTION:From the 2018 Field of Remembrance: \nHis Royal Highness The Duke of Sussex opened the Royal British Legion’s 90th Field of Remembrance at Westminster Abbey on Thursday 8th November 2018. \nHis Royal Highness arrived at the Field of Remembrance\, on the Abbey’s North Green\, shortly before 11.00am and was greeted by the Dean of Westminster\, the Very Reverend Dr John Hall. \nPrayers were led by the Dean\, who said: \nFor the 90th time at the Field of Remembrance we meet again to remember those who gave their lives in the conflicts of our time that we might enjoy freedom and peace.
URL:https://pcsbranch.org.uk/event/field-of-remembrance-westminster-abbey-2019/
CATEGORIES:Forthcoming Events
END:VEVENT
BEGIN:VEVENT
DTSTART;VALUE=DATE:20191013
DTEND;VALUE=DATE:20191014
DTSTAMP:20260425T190539
CREATED:20190831T130746Z
LAST-MODIFIED:20190831T130746Z
UID:5143-1570924800-1571011199@pcsbranch.org.uk
SUMMARY:Sapper Sunday 2019
DESCRIPTION:Sapper Sunday will take place on Sunday 13 October 2019 at the Royal Hospital Chelsea\, it is a wonderful opportunity to celebrate the Corps with the many Sapper in-pensioners.
URL:https://pcsbranch.org.uk/event/sapper-sunday-2019/
CATEGORIES:Forthcoming Events
END:VEVENT
BEGIN:VEVENT
DTSTART;VALUE=DATE:20190802
DTEND;VALUE=DATE:20190825
DTSTAMP:20260425T190539
CREATED:20181115T153334Z
LAST-MODIFIED:20181115T153721Z
UID:4803-1564704000-1566691199@pcsbranch.org.uk
SUMMARY:The Royal Edinburgh Military Tattoo 2019
DESCRIPTION:The Tattoo is synonymous with military music. The British Army provides the world class musicians often featuring The Band of The Royal Regiment of Scotland\, along with Pipes and Drums of the 1st\, 2nd and 4th Battalions of The Royal Regiment of Scotland (1\, 2 and 4 SCOTS)\, The Royal Dragoon Guards\, The Queen’s Royal Hussars and the Scots Guards.
URL:https://pcsbranch.org.uk/event/the-royal-edinburgh-military-tattoo-2019/
CATEGORIES:Forthcoming Events
END:VEVENT
BEGIN:VEVENT
DTSTART;VALUE=DATE:20190713
DTEND;VALUE=DATE:20190714
DTSTAMP:20260425T190539
CREATED:20181115T154547Z
LAST-MODIFIED:20181115T154547Z
UID:4808-1562976000-1563062399@pcsbranch.org.uk
SUMMARY:Royal Navy International Air Day!
DESCRIPTION:Royal Navy International Air Day\, which takes place at Royal Naval Air Station Yeovilton in Somerset on Saturday 13 July.
URL:https://pcsbranch.org.uk/event/royal-navy-international-air-day/
CATEGORIES:Forthcoming Events
END:VEVENT
BEGIN:VEVENT
DTSTART;VALUE=DATE:20190629
DTEND;VALUE=DATE:20190630
DTSTAMP:20260425T190539
CREATED:20181115T153845Z
LAST-MODIFIED:20181115T153845Z
UID:4806-1561766400-1561852799@pcsbranch.org.uk
SUMMARY:Armed Forces Day 2019
DESCRIPTION:Armed Forces Day 2019 will be held in Salisbury\, a city steeped in military history. The event\, which will be the eleventh Armed Forces Day\, will be hosted by Wiltshire County Council with support from the Ministry of Defence \nSalisbury has many links with the military. Following the nerve agent attack in the city in March 2018\, military teams worked tirelessly\, alongside the emergency services\, to support the recovery of the city. It is also home to many Army bases including Bulford Camp\, Tidworth Camp and Salisbury Plain\, one of the UK’s biggest military training areas. \nEvents are to be held across the UK to mark Armed Forces Day\, as well as the national event in Salisbury.
URL:https://pcsbranch.org.uk/event/armed-forces-day-2019/
CATEGORIES:Forthcoming Events
END:VEVENT
BEGIN:VEVENT
DTSTART;VALUE=DATE:20190505
DTEND;VALUE=DATE:20190507
DTSTAMP:20260425T190539
CREATED:20181115T153118Z
LAST-MODIFIED:20181115T153118Z
UID:4801-1557014400-1557187199@pcsbranch.org.uk
SUMMARY:Middy in the War Years
DESCRIPTION:Brockford Station\, Wetheringsett\, Stowmarket\, Suffolk\, IP14 5PW.\nTel: 01449 672 670. \nRecreating the atmosphere and scenes of World War II\, featuring wartime displays\, reenactment demonstrations and military vehicles\, this year’s event will see an expanded range of displays for visitors to enjoy such as military encampments\, battle scenes as well as a number of displays dedicated to how people lived their lives on the home front. There will also be music and dancing from the Brown Penny Club swing dancers\, as well as unlimited rides on trains with two locos in steam. \nThis year we will also welcome back the RAF’s Battle of Britain Memorial Flight (TBC.)
URL:https://pcsbranch.org.uk/event/middy-in-the-war-years/
CATEGORIES:Forthcoming Events
END:VEVENT
BEGIN:VEVENT
DTSTART;VALUE=DATE:20190505
DTEND;VALUE=DATE:20190506
DTSTAMP:20260425T190539
CREATED:20181115T151808Z
LAST-MODIFIED:20181115T151808Z
UID:4799-1557014400-1557100799@pcsbranch.org.uk
SUMMARY:Classic Motor Show
DESCRIPTION:Catton Hall\, Nr Alrewas\, Derbyshire\, DE12 8LN. \nA super one day event at Catton Hall for classic enthusiasts and all the family. Up to 700 classic motors including pre and post war vehicles\, American and military. Plus classic motorcycles and modified motors! There will be trade and autojumble stands for all those after a May Day Bank Holiday bargain.
URL:https://pcsbranch.org.uk/event/classic-motor-show/
CATEGORIES:Forthcoming Events
END:VEVENT
BEGIN:VEVENT
DTSTART;VALUE=DATE:20190421
DTEND;VALUE=DATE:20190423
DTSTAMP:20260425T190539
CREATED:20181115T144945Z
LAST-MODIFIED:20181115T150129Z
UID:4790-1555804800-1555977599@pcsbranch.org.uk
SUMMARY:World War II – Home Front Crich Tranway Village
DESCRIPTION:CRICH TRAMWAY VILLAGE \n\nThe National Tramway Museum\, Nr Matlock\, Derbyshire\, DE4 5DP.\nTel: 01773 854 321. \n\nSee war time Britain brought to life with military vehicles soldiers and civilians in this week long event.
URL:https://pcsbranch.org.uk/event/world-war-ii-home-front-crich-tranway-village/
CATEGORIES:Forthcoming Events
END:VEVENT
BEGIN:VEVENT
DTSTART;VALUE=DATE:20190411
DTEND;VALUE=DATE:20190415
DTSTAMP:20260425T190539
CREATED:20181115T144713Z
LAST-MODIFIED:20181115T144713Z
UID:4787-1554940800-1555286399@pcsbranch.org.uk
SUMMARY:Great North Steam Fair Beamish Museum
DESCRIPTION:Beamish\, Nr Stanley\, Co. Durham\, DH9 0RG.\nTel: 0191 370 4000. \n\nThis fantastic four-day event is set to feature a whole host of road vehicles\, engines and trains from the period up to 1918 in spectacular action around…
URL:https://pcsbranch.org.uk/event/great-north-steam-fair-beamish-museum/
CATEGORIES:Forthcoming Events
END:VEVENT
BEGIN:VEVENT
DTSTART;VALUE=DATE:20181216
DTEND;VALUE=DATE:20181217
DTSTAMP:20260425T190539
CREATED:20181115T151104Z
LAST-MODIFIED:20181115T151104Z
UID:4797-1544918400-1545004799@pcsbranch.org.uk
SUMMARY:Christmas Classic Vehicle & Steam Meet
DESCRIPTION:Top of Town Car Park\, Dorchester\, Dorset\, .
URL:https://pcsbranch.org.uk/event/christmas-classic-vehicle-steam-meet/
CATEGORIES:Forthcoming Events
END:VEVENT
BEGIN:VEVENT
DTSTART;VALUE=DATE:20181209
DTEND;VALUE=DATE:20181210
DTSTAMP:20260425T190539
CREATED:20181115T150917Z
LAST-MODIFIED:20181115T151230Z
UID:4795-1544313600-1544399999@pcsbranch.org.uk
SUMMARY:1940s Christmas
DESCRIPTION:SOUTH YORKSHIRE TRANSPORT MUSEUM \n\nUnit 9\, Waddington Way\, Rotherham\, Yorkshire\, S65 3SH.\nTel: 07852 298 082. \n\nFeaturing displays and demonstrations provided by Spirit of the Homefront.
URL:https://pcsbranch.org.uk/event/1940s-christmas/
CATEGORIES:Forthcoming Events
END:VEVENT
BEGIN:VEVENT
DTSTART;VALUE=DATE:20181201
DTEND;VALUE=DATE:20181203
DTSTAMP:20260425T190539
CREATED:20181115T150757Z
LAST-MODIFIED:20181115T150757Z
UID:4793-1543622400-1543795199@pcsbranch.org.uk
SUMMARY:Vintage Christmas
DESCRIPTION:TANK MUSEUM \n\nBovington Camp\, Wareham\, Dorset\, BH20 6JG.\nTel: 01929 505 096. \n\nStepping back in time\, ‘Vintage Christmas’ brings fantastic entertainment\, an incredible festive market and historical education in a unique setting. \n 
URL:https://pcsbranch.org.uk/event/vintage-christmas/
CATEGORIES:Forthcoming Events
END:VEVENT
BEGIN:VEVENT
DTSTART;VALUE=DATE:20180317
DTEND;VALUE=DATE:20180319
DTSTAMP:20260425T190539
CREATED:20170606T184433Z
LAST-MODIFIED:20171208T113321Z
UID:4141-1521244800-1521417599@pcsbranch.org.uk
SUMMARY:REA AGM and Annual Dinner
DESCRIPTION:ROYAL ENGINEERS ASSOCIATION\n PCS BRANCH REUNION – 17 MARCH 2018\nWith help from Paul Morris and after much research\, telephone calls and visits to various hotels close to the National Memorial Arboretum\, the Moor Hall Hotel and Spa in Sutton Coldfield has been selected for our 2018 Reunion on Saturday 17 March. \nThe address of the hotel is: Moor Hall Drive\, Sutton Coldfield B75 6LN and their website is http://www.moorhallhotel.co.uk which gives full details of facilities and transport links\, etc.\nUse of the Spa has also been agreed as part of our package\, should you wish to take advantage of the facility\, so remember to pack your cosi! \nBookings should be made on 01213 342 301. Please make the reservation staff aware that you are there for the Royal Engineers Reunion. Once reservations have been made with the hotel\, please ensure you inform both the Secretary (larrypeacock60@hotmail.co.uk) and myself (bfelks@talktalk.net) giving the full names of all those in your party along with any seating preferences. For clarity\, all payments should be made to the hotel\, not the Branch Treasurer. The hotel will not require a deposit; however they will require a credit/debit card number when booking. Payment will be taken on check-out from the hotel. \nPrices:\nDate Standard Single Room Standard Double/Twin Room\nFri 16 Mar B&B – £65 B&B – £95\nSat 17 Mar B&B – £101.50 (incl. dinner) B&B – £163 (incl. dinner for 2)\nSun 18 Mar B&B – £65 B&B – £95 \nMenu:\nWe were given a choice from several fixed menus and your committee selected:\nLeek and Potato Soup\nRoast Chicken with Mushroom Sauce with Roast Potatoes & Seasonal Veg\nSticky Toffee Pudding\nCoffee\nPlease let the Secretary know of any special dietary needs for yourself or anyone in your party. \nThere will be wine on each table\, the cost of which is being borne by Branch funds. \nThe National Memorial Arboretum \nThe Arboretum is 14 miles away (20 mins by car) and well worth a visit (www.thenma.org.uk). \nIt was agreed at the last AGM that a memorial tree would be planted within the Arboretum to commemorate PCS during WW1. The committee is looking at the possibility of organising some kind of a tree planting ceremony over the Reunion weekend for those able to attend.
URL:https://pcsbranch.org.uk/event/rea-agm-and-annual-dinner/
CATEGORIES:Forthcoming Events,Reunion
END:VEVENT
BEGIN:VEVENT
DTSTART;VALUE=DATE:20180209
DTEND;VALUE=DATE:20180226
DTSTAMP:20260425T190539
CREATED:20171208T121605Z
LAST-MODIFIED:20171208T121605Z
UID:4488-1518134400-1519603199@pcsbranch.org.uk
SUMMARY:The 2018 Winter Olympics
DESCRIPTION:The 2018 Winter Olympics scheduled to take place from 9 to 25 February in Pyeongchang County\, South Korea.
URL:https://pcsbranch.org.uk/event/the-2018-winter-olympics/
CATEGORIES:Forthcoming Events
END:VEVENT
BEGIN:VEVENT
DTSTART;VALUE=DATE:20171112
DTEND;VALUE=DATE:20171113
DTSTAMP:20260425T190539
CREATED:20170606T184933Z
LAST-MODIFIED:20171208T113903Z
UID:4147-1510444800-1510531199@pcsbranch.org.uk
SUMMARY:Remembrance Sunday
DESCRIPTION:
URL:https://pcsbranch.org.uk/event/november-remembrance-sunday/
CATEGORIES:Forthcoming Events
END:VEVENT
END:VCALENDAR