BEGIN:VCALENDAR
VERSION:2.0
PRODID:-//BFPO Veterans - ECPv6.15.20//NONSGML v1.0//EN
CALSCALE:GREGORIAN
METHOD:PUBLISH
X-ORIGINAL-URL:https://pcsbranch.org.uk
X-WR-CALDESC:Events for BFPO Veterans
REFRESH-INTERVAL;VALUE=DURATION:PT1H
X-Robots-Tag:noindex
X-PUBLISHED-TTL:PT1H
BEGIN:VTIMEZONE
TZID:Europe/London
BEGIN:DAYLIGHT
TZOFFSETFROM:+0000
TZOFFSETTO:+0100
TZNAME:BST
DTSTART:20160327T010000
END:DAYLIGHT
BEGIN:STANDARD
TZOFFSETFROM:+0100
TZOFFSETTO:+0000
TZNAME:GMT
DTSTART:20161030T010000
END:STANDARD
BEGIN:DAYLIGHT
TZOFFSETFROM:+0000
TZOFFSETTO:+0100
TZNAME:BST
DTSTART:20170326T010000
END:DAYLIGHT
BEGIN:STANDARD
TZOFFSETFROM:+0100
TZOFFSETTO:+0000
TZNAME:GMT
DTSTART:20171029T010000
END:STANDARD
BEGIN:DAYLIGHT
TZOFFSETFROM:+0000
TZOFFSETTO:+0100
TZNAME:BST
DTSTART:20180325T010000
END:DAYLIGHT
BEGIN:STANDARD
TZOFFSETFROM:+0100
TZOFFSETTO:+0000
TZNAME:GMT
DTSTART:20181028T010000
END:STANDARD
BEGIN:DAYLIGHT
TZOFFSETFROM:+0000
TZOFFSETTO:+0100
TZNAME:BST
DTSTART:20190331T010000
END:DAYLIGHT
BEGIN:STANDARD
TZOFFSETFROM:+0100
TZOFFSETTO:+0000
TZNAME:GMT
DTSTART:20191027T010000
END:STANDARD
BEGIN:DAYLIGHT
TZOFFSETFROM:+0000
TZOFFSETTO:+0100
TZNAME:BST
DTSTART:20200329T010000
END:DAYLIGHT
BEGIN:STANDARD
TZOFFSETFROM:+0100
TZOFFSETTO:+0000
TZNAME:GMT
DTSTART:20201025T010000
END:STANDARD
BEGIN:DAYLIGHT
TZOFFSETFROM:+0000
TZOFFSETTO:+0100
TZNAME:BST
DTSTART:20210328T010000
END:DAYLIGHT
BEGIN:STANDARD
TZOFFSETFROM:+0100
TZOFFSETTO:+0000
TZNAME:GMT
DTSTART:20211031T010000
END:STANDARD
BEGIN:DAYLIGHT
TZOFFSETFROM:+0000
TZOFFSETTO:+0100
TZNAME:BST
DTSTART:20220327T010000
END:DAYLIGHT
BEGIN:STANDARD
TZOFFSETFROM:+0100
TZOFFSETTO:+0000
TZNAME:GMT
DTSTART:20221030T010000
END:STANDARD
BEGIN:DAYLIGHT
TZOFFSETFROM:+0000
TZOFFSETTO:+0100
TZNAME:BST
DTSTART:20230326T010000
END:DAYLIGHT
BEGIN:STANDARD
TZOFFSETFROM:+0100
TZOFFSETTO:+0000
TZNAME:GMT
DTSTART:20231029T010000
END:STANDARD
BEGIN:DAYLIGHT
TZOFFSETFROM:+0000
TZOFFSETTO:+0100
TZNAME:BST
DTSTART:20240331T010000
END:DAYLIGHT
BEGIN:STANDARD
TZOFFSETFROM:+0100
TZOFFSETTO:+0000
TZNAME:GMT
DTSTART:20241027T010000
END:STANDARD
END:VTIMEZONE
BEGIN:VEVENT
DTSTART;VALUE=DATE:20230421
DTEND;VALUE=DATE:20230424
DTSTAMP:20260425T174429
CREATED:20220514T075252Z
LAST-MODIFIED:20220514T075252Z
UID:7793-1682035200-1682294399@pcsbranch.org.uk
SUMMARY:PCS Branch Annual Reunion
DESCRIPTION:The location is at Warrington Village Hotel https://www.village-hotels.co.uk/warrington
URL:https://pcsbranch.org.uk/event/pcs-branch-annual-reunion-2/
CATEGORIES:Reunion
END:VEVENT
BEGIN:VEVENT
DTSTART;VALUE=DATE:20200424
DTEND;VALUE=DATE:20200427
DTSTAMP:20260425T174429
CREATED:20190923T183309Z
LAST-MODIFIED:20190923T183309Z
UID:5223-1587686400-1587945599@pcsbranch.org.uk
SUMMARY:PCS Branch Annual Reunion
DESCRIPTION:The location is Liverpool at Village Hotel https://www.village-hotels.co.uk/hotels/liverpool/
URL:https://pcsbranch.org.uk/event/pcs-branch-annual-reunion/
CATEGORIES:Reunion
END:VEVENT
BEGIN:VEVENT
DTSTART;VALUE=DATE:20191012
DTEND;VALUE=DATE:20191014
DTSTAMP:20260425T174429
CREATED:20190831T130508Z
LAST-MODIFIED:20190831T130508Z
UID:5141-1570838400-1571011199@pcsbranch.org.uk
SUMMARY:REA AGM and Annual Dinner
DESCRIPTION:The AGM and annual dinner will again be held in the Victory Services Club\, all welcome to attend both the AGM and Dinner and Sapper Sunday the following day.
URL:https://pcsbranch.org.uk/event/rea-agm-and-annual-dinner-3/
CATEGORIES:Reunion
END:VEVENT
BEGIN:VEVENT
DTSTART;VALUE=DATE:20190913
DTEND;VALUE=DATE:20190916
DTSTAMP:20260425T174429
CREATED:20190831T125955Z
LAST-MODIFIED:20190831T131414Z
UID:5139-1568332800-1568591999@pcsbranch.org.uk
SUMMARY:Corps Memorial and Veterans Weekend
DESCRIPTION:CMP19 REA Calling Notice 1RSME RSM \n\nBrief report on the 2018 CMV Weekend \nThe Corps Memorial and Veterans weekend was attended by 120 REA members who enjoyed a packed weekend\, which included an informal function hosted by the WO’s and Sgts Mess on the Friday night featuring live music and raffle run by the Medway Branch. The Saturday saw the Dove Cup Darts competition\, the Presentation of the Inglis bridge to the RE Museum by the Doncaster Branch\, the National Standard Bearers Competition won for the third time in a row by Rick Tootle and an excellent formal Regimental Dinner hosted by the WO and Sgts Mess on the Saturday night. \nThe Sunday featured two parades with the dedication of new plaques on the Kitchener Obelisk commemorating those who fought in post WW 2 conflicts followed by the Service in Rochester Cathedral and then the Freedom Parade along the High Street. \nThe weekend was thoroughly enjoyed by all who attended and thanks goes to 1 RSME for the considerable effort taken to produce such a successful event. \nLook forward to welcoming many more members to the 2019 Event
URL:https://pcsbranch.org.uk/event/corps-memorial-and-veterans-weekend/
CATEGORIES:Reunion
END:VEVENT
BEGIN:VEVENT
DTSTART;VALUE=DATE:20190413
DTEND;VALUE=DATE:20190415
DTSTAMP:20260425T174429
CREATED:20180706T133727Z
LAST-MODIFIED:20181115T143824Z
UID:4785-1555113600-1555286399@pcsbranch.org.uk
SUMMARY:REA AGM and Annual Dinner
DESCRIPTION:The Best Western Royale Hotel in Bournemouth has been selected for our 2019 reunion on Saturday 13 April 2019. The address of the hotel is 16 Gervis Road\, Bournemouth BH1 3EQ. \nThe weekend starts with an informal gathering on Friday and the Branch AGM will be held on Sunday morning. \nBookings should be made on 01202 554 794\, ensuring the hotel is aware that you are attending the Royal Engineers Reunion. A deposit of £15 per person per night is required\, with balance to be paid on departure. Lifts are available to all floors in the hotel (no ground floor bedrooms are available). \nPlease make our Secretary (larrypeacock60@hotmail.co.uk) and Chairman (bfelks@talktalk.net) aware of your booking\, giving the full names of all in your party. \nPlease pick one Starter\, one Main Course and one Sweet then submit choices to Larry using letter codes\, e.g. ‘C\, G\, L’. Please also inform Larry of any special dietary needs. As usual\, some wine will be available funded by the Branch. \nFriday/Saturday – 2 Nights B&B and Reunion Dinner £135 per person. \nSaturday – 1 Night B&B and Reunion Dinner £97.50* per person. \nSaturday Dinner only – £35 per person. \n*There are only five 1-night rooms available so book early. \nDinner Menu \nStarter: \nA\, Shrimp Salad\, Leaves and Thousand Island Sauce. \nB\, Crispy Duck Salad with Bean Shoots and Hoisin Sauce. \nC\, Leek and Potato Broth. \nD\, Mediterranean Couscous Plate. \nMain: \nE\, Roast Sirloin of Beef with Yorkshire Pudding and Chef’s Pan Gravy Jus. \nF\, Roast Breast of Chicken with Chef’s Pan Gravy Jus. \nG\, Loin of Pork Medallions with Celeriac Mash and Pear & Calvados Sauce. \nH\, Tandoori Vegetable Curry\, Rice and Poppadum. \nI\, Open Mushroom Pie. \nSweet \nJ\, Fresh Fruit Salad. \nK\, Peach and Apricot Trifle \nL\, Brandy Snap Basket with Strawberry Mousse and Fresh Strawberries.
URL:https://pcsbranch.org.uk/event/rea-agm-and-annual-dinner-2/
CATEGORIES:Reunion
END:VEVENT
BEGIN:VEVENT
DTSTART;VALUE=DATE:20180317
DTEND;VALUE=DATE:20180319
DTSTAMP:20260425T174429
CREATED:20170606T184433Z
LAST-MODIFIED:20171208T113321Z
UID:4141-1521244800-1521417599@pcsbranch.org.uk
SUMMARY:REA AGM and Annual Dinner
DESCRIPTION:ROYAL ENGINEERS ASSOCIATION\n PCS BRANCH REUNION – 17 MARCH 2018\nWith help from Paul Morris and after much research\, telephone calls and visits to various hotels close to the National Memorial Arboretum\, the Moor Hall Hotel and Spa in Sutton Coldfield has been selected for our 2018 Reunion on Saturday 17 March. \nThe address of the hotel is: Moor Hall Drive\, Sutton Coldfield B75 6LN and their website is http://www.moorhallhotel.co.uk which gives full details of facilities and transport links\, etc.\nUse of the Spa has also been agreed as part of our package\, should you wish to take advantage of the facility\, so remember to pack your cosi! \nBookings should be made on 01213 342 301. Please make the reservation staff aware that you are there for the Royal Engineers Reunion. Once reservations have been made with the hotel\, please ensure you inform both the Secretary (larrypeacock60@hotmail.co.uk) and myself (bfelks@talktalk.net) giving the full names of all those in your party along with any seating preferences. For clarity\, all payments should be made to the hotel\, not the Branch Treasurer. The hotel will not require a deposit; however they will require a credit/debit card number when booking. Payment will be taken on check-out from the hotel. \nPrices:\nDate Standard Single Room Standard Double/Twin Room\nFri 16 Mar B&B – £65 B&B – £95\nSat 17 Mar B&B – £101.50 (incl. dinner) B&B – £163 (incl. dinner for 2)\nSun 18 Mar B&B – £65 B&B – £95 \nMenu:\nWe were given a choice from several fixed menus and your committee selected:\nLeek and Potato Soup\nRoast Chicken with Mushroom Sauce with Roast Potatoes & Seasonal Veg\nSticky Toffee Pudding\nCoffee\nPlease let the Secretary know of any special dietary needs for yourself or anyone in your party. \nThere will be wine on each table\, the cost of which is being borne by Branch funds. \nThe National Memorial Arboretum \nThe Arboretum is 14 miles away (20 mins by car) and well worth a visit (www.thenma.org.uk). \nIt was agreed at the last AGM that a memorial tree would be planted within the Arboretum to commemorate PCS during WW1. The committee is looking at the possibility of organising some kind of a tree planting ceremony over the Reunion weekend for those able to attend.
URL:https://pcsbranch.org.uk/event/rea-agm-and-annual-dinner/
CATEGORIES:Forthcoming Events,Reunion
END:VEVENT
BEGIN:VEVENT
DTSTART;VALUE=DATE:20171019
DTEND;VALUE=DATE:20171024
DTSTAMP:20260425T174429
CREATED:20170203T190815Z
LAST-MODIFIED:20170203T190815Z
UID:1349-1508371200-1508803199@pcsbranch.org.uk
SUMMARY:WRAC Reunion
DESCRIPTION:2017 WRAC Reunion will take place on 19-23 October in Morecambe
URL:https://pcsbranch.org.uk/event/wrac-reunion/
CATEGORIES:Forthcoming Events,Reunion
END:VEVENT
BEGIN:VEVENT
DTSTART;VALUE=DATE:20170422
DTEND;VALUE=DATE:20170423
DTSTAMP:20260425T174429
CREATED:20170202T103519Z
LAST-MODIFIED:20170205T171914Z
UID:1169-1492819200-1492905599@pcsbranch.org.uk
SUMMARY:PCS Branch Annual Reunion Dinner and AGM
DESCRIPTION:The 75th annual dinner celebration of the PCS Branch \nREA PCS BRANCH REUNION DINNER 2017 MENU \nThe menu choices for the 2017 Reunion dinner are as below. Would all attendees please let the Chairman know their selections as soon as possible but no later than 7th April 2017. All that is required for each person attending is a letter from each course representing choices ie. a\,e\,h.\nSTARTER\na. Pressed melon\, caramelised strawberries\, vanilla crème friache\nb. Lincoln blue panna cotta\, poached pear\, red wine reduction\nc. Pressed ham hock and vegetable terrine\, sweet mustard oil\nMAIN COURSE\nd. Braised beef sirloin\, caramelised onions\, mushrooms\, thyme mash\, red wine jus\ne. Breast of chicken\, crisp pancetta\, wild mushroom sauce\, crushed potatoes\nf. Spinach and feta cheese\, baked Greek style in crispy filo pastry\nSWEET\ng. Strawberry and vanilla parfait\, tuile wafer and glazed strawberries\nh. Peach and blackberry crumble\, vanilla custard\ni. Lime and cranberry cheesecake coulls\nTea coffee and mints \nPlease send your requirements to bfelks@talktalk.net
URL:https://pcsbranch.org.uk/event/pcs-branch-annual-reunion-dinner-and-agm/
LOCATION:Lincoln Hotel\, Eastgate\, Lincoln\, LN2 1PN\, United Kingdom
CATEGORIES:Forthcoming Events,Reunion
END:VEVENT
END:VCALENDAR