BEGIN:VCALENDAR
VERSION:2.0
PRODID:-//BFPO Veterans - ECPv6.15.20//NONSGML v1.0//EN
CALSCALE:GREGORIAN
METHOD:PUBLISH
X-ORIGINAL-URL:https://pcsbranch.org.uk
X-WR-CALDESC:Events for BFPO Veterans
REFRESH-INTERVAL;VALUE=DURATION:PT1H
X-Robots-Tag:noindex
X-PUBLISHED-TTL:PT1H
BEGIN:VTIMEZONE
TZID:Europe/London
BEGIN:DAYLIGHT
TZOFFSETFROM:+0000
TZOFFSETTO:+0100
TZNAME:BST
DTSTART:20220327T010000
END:DAYLIGHT
BEGIN:STANDARD
TZOFFSETFROM:+0100
TZOFFSETTO:+0000
TZNAME:GMT
DTSTART:20221030T010000
END:STANDARD
BEGIN:DAYLIGHT
TZOFFSETFROM:+0000
TZOFFSETTO:+0100
TZNAME:BST
DTSTART:20230326T010000
END:DAYLIGHT
BEGIN:STANDARD
TZOFFSETFROM:+0100
TZOFFSETTO:+0000
TZNAME:GMT
DTSTART:20231029T010000
END:STANDARD
BEGIN:DAYLIGHT
TZOFFSETFROM:+0000
TZOFFSETTO:+0100
TZNAME:BST
DTSTART:20240331T010000
END:DAYLIGHT
BEGIN:STANDARD
TZOFFSETFROM:+0100
TZOFFSETTO:+0000
TZNAME:GMT
DTSTART:20241027T010000
END:STANDARD
BEGIN:DAYLIGHT
TZOFFSETFROM:+0000
TZOFFSETTO:+0100
TZNAME:BST
DTSTART:20250330T010000
END:DAYLIGHT
BEGIN:STANDARD
TZOFFSETFROM:+0100
TZOFFSETTO:+0000
TZNAME:GMT
DTSTART:20251026T010000
END:STANDARD
END:VTIMEZONE
BEGIN:VEVENT
DTSTART;TZID=Europe/London:20240127T190000
DTEND;TZID=Europe/London:20240127T233000
DTSTAMP:20260425T201507
CREATED:20231024T080703Z
LAST-MODIFIED:20231024T080703Z
UID:8638-1706382000-1706398200@pcsbranch.org.uk
SUMMARY:Burns Night – Chilwell
DESCRIPTION:Details can be found on https://sappercom.com/
URL:https://pcsbranch.org.uk/event/burns-night-chilwell/
CATEGORIES:Social Calendar
END:VEVENT
BEGIN:VEVENT
DTSTART;TZID=Europe/London:20231118T183000
DTEND;TZID=Europe/London:20231119T010000
DTSTAMP:20260425T201507
CREATED:20231024T080111Z
LAST-MODIFIED:20231024T080111Z
UID:8634-1700332200-1700355600@pcsbranch.org.uk
SUMMARY:Plymouth – Dinner Dance
DESCRIPTION:Contact the Plymouth Branch to find out more: https://www.plymouthreabranch.co.uk/
URL:https://pcsbranch.org.uk/event/plymouth-dinner-dance/
CATEGORIES:Social Calendar
END:VEVENT
BEGIN:VEVENT
DTSTART;VALUE=DATE:20231008
DTEND;VALUE=DATE:20231009
DTSTAMP:20260425T201507
CREATED:20230225T102659Z
LAST-MODIFIED:20230225T102735Z
UID:8153-1696723200-1696809599@pcsbranch.org.uk
SUMMARY:Sapper Sunday at Royal Hospital Chelsea
DESCRIPTION:
URL:https://pcsbranch.org.uk/event/sapper-sunday-at-royal-hospital-chelsea-2/
CATEGORIES:Social Calendar
END:VEVENT
BEGIN:VEVENT
DTSTART;VALUE=DATE:20231007
DTEND;VALUE=DATE:20231008
DTSTAMP:20260425T201507
CREATED:20230225T102609Z
LAST-MODIFIED:20230225T103535Z
UID:8151-1696636800-1696723199@pcsbranch.org.uk
SUMMARY:REA AGM and Annual Dinner
DESCRIPTION:
URL:https://pcsbranch.org.uk/event/rea-agm-and-annual-dinner-4/
CATEGORIES:Social Calendar
END:VEVENT
BEGIN:VEVENT
DTSTART;VALUE=DATE:20230722
DTEND;VALUE=DATE:20230723
DTSTAMP:20260425T201507
CREATED:20230225T102211Z
LAST-MODIFIED:20230331T174232Z
UID:8147-1689984000-1690070399@pcsbranch.org.uk
SUMMARY:REA Minley Weekend
DESCRIPTION:ROYAL ENGINEERS ASSOCIATION (REA) MINLEY WEEKEND 22 – 23 JULY 2023 CALLING NOTICE \nOutline of events.  A welcome pack containing a detailed breakdown of the weekend’s events and relevant information will be issued to all REA members on arrival at the Reception Centre.  The weekend will however be broken into 3 distinct phases: \na.          ‘Meet & Greet’.  This phase will take place within SSVC on Sat 22 Jul 23. Breakfast baps\, tea & coffee will be served at 1030hrs. The CO and RSM will welcome all guests onto station and give a Corps update.  \nb.         Royal Engineers Open Day.  The main event for Sat 22 Jul 23 will be the Station Families day\, showcasing Royal Engineer capabilities through static and practical stands as well as fun activities for families.  This will be followed by a social function in the evening within the Warrant Officers’ and Sergeants Mess\, comprising of a presentation from a guest speaker\, a raffle and buffet.  \nc.         Chaplain Service.  On Sun 23 Jul 23 the Station Chaplain will host a church service in the Warrant Officers’ & Sergeants’ Mess which will be followed by a Carvery lunch in the Officers’ Mess prior to Dispersal.  The weekend will conclude NLT 1500 hrs on the Sunday. \n 
URL:https://pcsbranch.org.uk/event/rea-minley-weekend/
CATEGORIES:Social Calendar
END:VEVENT
END:VCALENDAR